BEGIN:VCALENDAR
VERSION:2.0
PRODID:-//The Grunt Club Inc. - ECPv6.15.20//NONSGML v1.0//EN
CALSCALE:GREGORIAN
METHOD:PUBLISH
X-WR-CALNAME:The Grunt Club Inc.
X-ORIGINAL-URL:https://www.gruntclub.org
X-WR-CALDESC:Events for The Grunt Club Inc.
REFRESH-INTERVAL;VALUE=DURATION:PT1H
X-Robots-Tag:noindex
X-PUBLISHED-TTL:PT1H
BEGIN:VTIMEZONE
TZID:America/Toronto
BEGIN:DAYLIGHT
TZOFFSETFROM:-0500
TZOFFSETTO:-0400
TZNAME:EDT
DTSTART:20220313T070000
END:DAYLIGHT
BEGIN:STANDARD
TZOFFSETFROM:-0400
TZOFFSETTO:-0500
TZNAME:EST
DTSTART:20221106T060000
END:STANDARD
BEGIN:DAYLIGHT
TZOFFSETFROM:-0500
TZOFFSETTO:-0400
TZNAME:EDT
DTSTART:20230312T070000
END:DAYLIGHT
BEGIN:STANDARD
TZOFFSETFROM:-0400
TZOFFSETTO:-0500
TZNAME:EST
DTSTART:20231105T060000
END:STANDARD
BEGIN:DAYLIGHT
TZOFFSETFROM:-0500
TZOFFSETTO:-0400
TZNAME:EDT
DTSTART:20240310T070000
END:DAYLIGHT
BEGIN:STANDARD
TZOFFSETFROM:-0400
TZOFFSETTO:-0500
TZNAME:EST
DTSTART:20241103T060000
END:STANDARD
BEGIN:DAYLIGHT
TZOFFSETFROM:-0500
TZOFFSETTO:-0400
TZNAME:EDT
DTSTART:20250309T070000
END:DAYLIGHT
BEGIN:STANDARD
TZOFFSETFROM:-0400
TZOFFSETTO:-0500
TZNAME:EST
DTSTART:20251102T060000
END:STANDARD
BEGIN:DAYLIGHT
TZOFFSETFROM:-0500
TZOFFSETTO:-0400
TZNAME:EDT
DTSTART:20260308T070000
END:DAYLIGHT
BEGIN:STANDARD
TZOFFSETFROM:-0400
TZOFFSETTO:-0500
TZNAME:EST
DTSTART:20261101T060000
END:STANDARD
BEGIN:DAYLIGHT
TZOFFSETFROM:-0500
TZOFFSETTO:-0400
TZNAME:EDT
DTSTART:20270314T070000
END:DAYLIGHT
BEGIN:STANDARD
TZOFFSETFROM:-0400
TZOFFSETTO:-0500
TZNAME:EST
DTSTART:20271107T060000
END:STANDARD
END:VTIMEZONE
BEGIN:VTIMEZONE
TZID:UTC
BEGIN:STANDARD
TZOFFSETFROM:+0000
TZOFFSETTO:+0000
TZNAME:UTC
DTSTART:20210101T000000
END:STANDARD
END:VTIMEZONE
BEGIN:VEVENT
DTSTART;TZID=America/Toronto:20260312T120000
DTEND;TZID=America/Toronto:20260312T160000
DTSTAMP:20260420T152805
CREATED:20260112T182324Z
LAST-MODIFIED:20260112T183527Z
UID:4430-1773316800-1773331200@www.gruntclub.org
SUMMARY:Grunt Club St.Patrick's Curling Luncheon
DESCRIPTION:
URL:https://www.gruntclub.org/event/grunt-club-st-patricks-curling-luncheon/
LOCATION:St-Lambert Curling Club\, 660 Rue Oak\, St-Lambert\, Québec\, J4P 2R6
ATTACH;FMTTYPE=image/png:https://www.gruntclub.org/wp-content/uploads/2025/02/curlingchampionships_564x370.png
ORGANIZER;CN="Dave Mains":MAILTO:dmains@rodmarc.com
END:VEVENT
BEGIN:VEVENT
DTSTART;TZID=America/Toronto:20251214T114500
DTEND;TZID=America/Toronto:20251214T144500
DTSTAMP:20260420T152805
CREATED:20250901T013444Z
LAST-MODIFIED:20251121T170003Z
UID:3734-1765712700-1765723500@www.gruntclub.org
SUMMARY:Family Christmas Party
DESCRIPTION:YOU’RE INVITED TO THE GRUNT CLUB’S ANNUAL FAMILY CHRISTIMAS PARTY!!  \nThe tree is trimmed\, the lights are twinkling and the holiday spirit is in full swing – all that’s missing is  YOU!   \nJoin us with your partner\, children and grandchildren for an afternoon of festive fun\, delicious food and holiday cheer.  \nSanta will be making a special appearance – bringing gifts for all young Grunters under the age of 14!  \n📅 Sunday\, December 14\, 2025  \n🕒 11h45 to 14h30   \n📍 Mariners’ House of Montreal\, 200 rue de la Commune Ouest\, Montreal\, QC – free parking on site \n 💰  $20/child | $25/adult  \n🎁 Help Spread the Joy! 🎁 \nConsider making a cash donation to help us purchase gifts for the children.  Your generosity will be recognized at the event and in the Grunt Club’s report to members and directors.  \n📩 RSVP by November 20\, 2025 by purchasing your tickets below \n  \nLet’s make this Christmas party unforgettable – together! ❤️  \n\n					Please be aware that you must be logged in to your account to purchase tickets\, as this event is restricted to members and their guests. If you experience issues in purchasing your tickets\, please contact info@gruntclub.org for assistance.\n 
URL:https://www.gruntclub.org/event/family-christmas-party-2/
LOCATION:Mariners’ House of Montreal\, 200 rue de la Commune Ouest\, Montreal\, QC\, H2Y 4B2\, Canada
ATTACH;FMTTYPE=image/jpeg:https://www.gruntclub.org/wp-content/uploads/2025/08/fb01b87c-f0b6-43fd-adbd-b9111fc88a8f.jpg
ORGANIZER;CN="Jane Chong":MAILTO:JaChong@blg.com
END:VEVENT
BEGIN:VEVENT
DTSTART;TZID=America/Toronto:20251205T170000
DTEND;TZID=America/Toronto:20251205T230000
DTSTAMP:20260420T152805
CREATED:20250923T174721Z
LAST-MODIFIED:20251106T053629Z
UID:3771-1764954000-1764975600@www.gruntclub.org
SUMMARY:89th Annual Dinner
DESCRIPTION:To all Members\, Notice is hereby given that the Annual General Meeting of the Grunt Club Inc. will be held Tuesday April 21st\, 2026 at the Bonaventure Hotel. Notice is hereby given that a Special Meeting of the Grunt Club will be held immediately after the Annual General Meeting. The Board invites its members to […] \n 		\n			\n				To access this content\, you must purchase Grunt Club Membership.
URL:https://www.gruntclub.org/event/89th-annual-dinner/
LOCATION:Montreal Bonaventure Hotel\, 900 Rue De La Gauchetière O\, Montreal\, QC\, H5A 1E4\, Canada
ATTACH;FMTTYPE=image/jpeg:https://www.gruntclub.org/wp-content/uploads/2025/08/89th-Annual-Dinner-1.jpg
ORGANIZER;CN="Yolanda Boehmer":MAILTO:yboehmer@canfornav.com
END:VEVENT
BEGIN:VEVENT
DTSTART;TZID=America/Toronto:20251025T130000
DTEND;TZID=America/Toronto:20251025T160000
DTSTAMP:20260420T152805
CREATED:20250901T004947Z
LAST-MODIFIED:20250919T044604Z
UID:3720-1761397200-1761408000@www.gruntclub.org
SUMMARY:Halloween Family Day
DESCRIPTION:To all Members\, Notice is hereby given that the Annual General Meeting of the Grunt Club Inc. will be held Tuesday April 21st\, 2026 at the Bonaventure Hotel. Notice is hereby given that a Special Meeting of the Grunt Club will be held immediately after the Annual General Meeting. The Board invites its members to […] \n 		\n			\n				To access this content\, you must purchase Grunt Club Membership.
URL:https://www.gruntclub.org/event/halloween-family-day/
LOCATION:Elevation Trampoline and Amusement Rive-Sud\, 3860 Taschereau Blvd\, Longueuil\, Québec\, J4V 2H9\, Canada
ATTACH;FMTTYPE=image/jpeg:https://www.gruntclub.org/wp-content/uploads/2025/08/Halloween-e1756687749926.jpg
END:VEVENT
BEGIN:VEVENT
DTSTART;VALUE=DATE:20250526
DTEND;VALUE=DATE:20250527
DTSTAMP:20260420T152805
CREATED:20250306T162345Z
LAST-MODIFIED:20260327T153610Z
UID:3231-1748217600-1748303999@www.gruntclub.org
SUMMARY:2025 Premium Golf
DESCRIPTION:To all Members\, Notice is hereby given that the Annual General Meeting of the Grunt Club Inc. will be held Tuesday April 21st\, 2026 at the Bonaventure Hotel. Notice is hereby given that a Special Meeting of the Grunt Club will be held immediately after the Annual General Meeting. The Board invites its members to […] \n 		\n			\n				To access this content\, you must purchase Grunt Club Membership.
URL:https://www.gruntclub.org/event/2025-premium-golf/
LOCATION:Kanawaki Golf and Country Club\, Kanawaki Golf and Country Club\, Canada
ATTACH;FMTTYPE=image/jpeg:https://www.gruntclub.org/wp-content/uploads/2025/03/c52d304d-8fa1-2ef0-7f65-d5f8f2796c2a.jpg
ORGANIZER;CN="Elza Adamyan":MAILTO:Elad@gibunkering.com
END:VEVENT
BEGIN:VEVENT
DTSTART;TZID=America/Toronto:20250313T113000
DTEND;TZID=America/Toronto:20250313T153000
DTSTAMP:20260420T152805
CREATED:20250220T170028Z
LAST-MODIFIED:20250308T164307Z
UID:3182-1741865400-1741879800@www.gruntclub.org
SUMMARY:St-Patrick's Curling Luncheon
DESCRIPTION:To all Members\, Notice is hereby given that the Annual General Meeting of the Grunt Club Inc. will be held Tuesday April 21st\, 2026 at the Bonaventure Hotel. Notice is hereby given that a Special Meeting of the Grunt Club will be held immediately after the Annual General Meeting. The Board invites its members to […] \n 		\n			\n				To access this content\, you must purchase Grunt Club Membership.
URL:https://www.gruntclub.org/event/st-patricks-curling-luncheon-2/
LOCATION:St-Lambert Curling Club\, 660 Rue Oak\, St-Lambert\, Québec\, J4P 2R6
ATTACH;FMTTYPE=image/png:https://www.gruntclub.org/wp-content/uploads/2025/02/curlingchampionships_564x370.png
ORGANIZER;CN="Jordi Montblanch":MAILTO:jordi.montblanch@marsh.com
END:VEVENT
BEGIN:VEVENT
DTSTART;TZID=America/Toronto:20250227T173000
DTEND;TZID=America/Toronto:20250227T200000
DTSTAMP:20260420T152805
CREATED:20250221T213757Z
LAST-MODIFIED:20250222T000643Z
UID:3205-1740677400-1740686400@www.gruntclub.org
SUMMARY:Pub Night - Sold out!
DESCRIPTION:To all Members\, Notice is hereby given that the Annual General Meeting of the Grunt Club Inc. will be held Tuesday April 21st\, 2026 at the Bonaventure Hotel. Notice is hereby given that a Special Meeting of the Grunt Club will be held immediately after the Annual General Meeting. The Board invites its members to […] \n 		\n			\n				To access this content\, you must purchase Grunt Club Membership.
URL:https://www.gruntclub.org/event/pub-night/
LOCATION:Hurley’s Irish Pub\, 1225 Rue Crescent\, Montréal\, Québec\, H3G2B1\, Canada
ATTACH;FMTTYPE=image/png:https://www.gruntclub.org/wp-content/uploads/2025/02/Cropped-invite.png
ORGANIZER;CN="Jordi Montblanch":MAILTO:jordi.montblanch@marsh.com
END:VEVENT
BEGIN:VEVENT
DTSTART;TZID=America/Toronto:20241215T120000
DTEND;TZID=America/Toronto:20241215T150000
DTSTAMP:20260420T152805
CREATED:20241127T160409Z
LAST-MODIFIED:20241201T173953Z
UID:3049-1734264000-1734274800@www.gruntclub.org
SUMMARY:Family Christmas Party
DESCRIPTION:To all Members\, Notice is hereby given that the Annual General Meeting of the Grunt Club Inc. will be held Tuesday April 21st\, 2026 at the Bonaventure Hotel. Notice is hereby given that a Special Meeting of the Grunt Club will be held immediately after the Annual General Meeting. The Board invites its members to […] \n 		\n			\n				To access this content\, you must purchase Grunt Club Membership.
URL:https://www.gruntclub.org/event/family-christmas-party/
LOCATION:Mariners’ House of Montreal\, 200 rue de la Commune Ouest\, Montreal\, QC\, H2Y 4B2\, Canada
ATTACH;FMTTYPE=image/png:https://www.gruntclub.org/wp-content/uploads/2024/11/781db586-0b72-88fa-d037-400255b9860e.png
ORGANIZER;CN="Marc-Andr%C3%A9 Paquin":MAILTO:paquinma@port-montreal.com
END:VEVENT
BEGIN:VEVENT
DTSTART;TZID=America/Toronto:20241206T170000
DTEND;TZID=America/Toronto:20241206T220000
DTSTAMP:20260420T152805
CREATED:20240625T155328Z
LAST-MODIFIED:20241128T184203Z
UID:2385-1733504400-1733522400@www.gruntclub.org
SUMMARY:88th Annual Dinner
DESCRIPTION:To all Members\, Notice is hereby given that the Annual General Meeting of the Grunt Club Inc. will be held Tuesday April 21st\, 2026 at the Bonaventure Hotel. Notice is hereby given that a Special Meeting of the Grunt Club will be held immediately after the Annual General Meeting. The Board invites its members to […] \n 		\n			\n				To access this content\, you must purchase Grunt Club Membership.
URL:https://www.gruntclub.org/event/88th-annual-dinner/
LOCATION:Montreal Bonaventure Hotel\, 900 Rue De La Gauchetière O\, Montreal\, QC\, H5A 1E4\, Canada
ATTACH;FMTTYPE=image/png:https://www.gruntclub.org/wp-content/uploads/2022/06/grunt-club-annual.png
ORGANIZER;CN="Yolanda Boehmer":MAILTO:yboehmer@canfornav.com
END:VEVENT
BEGIN:VEVENT
DTSTART;TZID=America/Toronto:20241019T130000
DTEND;TZID=America/Toronto:20241019T160000
DTSTAMP:20260420T152805
CREATED:20240923T182901Z
LAST-MODIFIED:20240923T184129Z
UID:2713-1729342800-1729353600@www.gruntclub.org
SUMMARY:Halloween-Themed Family Day
DESCRIPTION:To all Members\, Notice is hereby given that the Annual General Meeting of the Grunt Club Inc. will be held Tuesday April 21st\, 2026 at the Bonaventure Hotel. Notice is hereby given that a Special Meeting of the Grunt Club will be held immediately after the Annual General Meeting. The Board invites its members to […] \n 		\n			\n				To access this content\, you must purchase Grunt Club Membership.
URL:https://www.gruntclub.org/event/halloween-themed-family-day/
LOCATION:Elevation Trampoline and Amusement Rive-Sud\, 3860 Taschereau Blvd\, Longueuil\, Québec\, J4V 2H9\, Canada
ORGANIZER;CN="Elza Adamyan":MAILTO:Elad@gibunkering.com
END:VEVENT
BEGIN:VEVENT
DTSTART;TZID=America/Toronto:20240916T103000
DTEND;TZID=America/Toronto:20240916T180000
DTSTAMP:20260420T152806
CREATED:20240621T214516Z
LAST-MODIFIED:20240913T175735Z
UID:2369-1726482600-1726509600@www.gruntclub.org
SUMMARY:2024 Fall Golf Classic - CANCELLED
DESCRIPTION:To all Members\, Notice is hereby given that the Annual General Meeting of the Grunt Club Inc. will be held Tuesday April 21st\, 2026 at the Bonaventure Hotel. Notice is hereby given that a Special Meeting of the Grunt Club will be held immediately after the Annual General Meeting. The Board invites its members to […] \n 		\n			\n				To access this content\, you must purchase Grunt Club Membership.
URL:https://www.gruntclub.org/event/2024-fall-golf-classic/
LOCATION:Golf Dorval\, 2000 Av. Reverchon\, Dorval\, QC\, H9P 2S7\, Canada
ATTACH;FMTTYPE=image/jpeg:https://www.gruntclub.org/wp-content/uploads/2024/06/golf-dorval.jpeg
ORGANIZER;CN="Anthony Loggia":MAILTO:aloggia@spragueenergy.com
END:VEVENT
BEGIN:VEVENT
DTSTART;TZID=America/Toronto:20240722T113000
DTEND;TZID=America/Toronto:20240722T183000
DTSTAMP:20260420T152806
CREATED:20230718T164234Z
LAST-MODIFIED:20240719T145632Z
UID:1088-1721647800-1721673000@www.gruntclub.org
SUMMARY:2024 Premier Golf Tournament
DESCRIPTION:To all Members\, Notice is hereby given that the Annual General Meeting of the Grunt Club Inc. will be held Tuesday April 21st\, 2026 at the Bonaventure Hotel. Notice is hereby given that a Special Meeting of the Grunt Club will be held immediately after the Annual General Meeting. The Board invites its members to […] \n 		\n			\n				To access this content\, you must purchase Grunt Club Membership.
URL:https://www.gruntclub.org/event/premier-golf-2024/
LOCATION:Kanawaki Golf and Country Club\, Kanawaki Golf and Country Club\, Canada
ATTACH;FMTTYPE=image/png:https://www.gruntclub.org/wp-content/uploads/2022/06/grunt-club.png
END:VEVENT
BEGIN:VEVENT
DTSTART;TZID=America/Toronto:20240704T170000
DTEND;TZID=America/Toronto:20240704T190000
DTSTAMP:20260420T152806
CREATED:20240621T203609Z
LAST-MODIFIED:20240626T001352Z
UID:2366-1720112400-1720119600@www.gruntclub.org
SUMMARY:Summer 5-à-7
DESCRIPTION:To all Members\, Notice is hereby given that the Annual General Meeting of the Grunt Club Inc. will be held Tuesday April 21st\, 2026 at the Bonaventure Hotel. Notice is hereby given that a Special Meeting of the Grunt Club will be held immediately after the Annual General Meeting. The Board invites its members to […] \n 		\n			\n				To access this content\, you must purchase Grunt Club Membership.
URL:https://www.gruntclub.org/event/summer-5-a-7/
LOCATION:Jack Saloon (Crescent Street)\, 1445 Crescent St.\, Montreal\, Quebec\, H3G 2B2\, Canada
ATTACH;FMTTYPE=image/png:https://www.gruntclub.org/wp-content/uploads/2024/06/jack-saloon.png
ORGANIZER;CN="Sean Rozum":MAILTO:sean.rozum@shipassurance.ca
END:VEVENT
BEGIN:VEVENT
DTSTART;TZID=America/Toronto:20231210T120000
DTEND;TZID=America/Toronto:20231210T150000
DTSTAMP:20260420T152806
CREATED:20231204T204216Z
LAST-MODIFIED:20231204T210505Z
UID:2038-1702209600-1702220400@www.gruntclub.org
SUMMARY:2023 Family Christmas Party
DESCRIPTION:To all Members\, Notice is hereby given that the Annual General Meeting of the Grunt Club Inc. will be held Tuesday April 21st\, 2026 at the Bonaventure Hotel. Notice is hereby given that a Special Meeting of the Grunt Club will be held immediately after the Annual General Meeting. The Board invites its members to […] \n 		\n			\n				To access this content\, you must purchase Grunt Club Membership.
URL:https://www.gruntclub.org/event/2023-family-christmas-party/
LOCATION:Mariners’ House of Montreal\, 200 rue de la Commune Ouest\, Montreal\, QC\, H2Y 4B2\, Canada
ATTACH;FMTTYPE=image/jpeg:https://www.gruntclub.org/wp-content/uploads/2023/12/mage-from-rawpixel-id-12550016-jpeg-e1701723840738.jpg
ORGANIZER;CN="Marc-Andr%C3%A9 Paquin":MAILTO:paquinma@port-montreal.com
END:VEVENT
BEGIN:VEVENT
DTSTART;TZID=America/Toronto:20231201T170000
DTEND;TZID=America/Toronto:20231201T233000
DTSTAMP:20260420T152806
CREATED:20230927T193436Z
LAST-MODIFIED:20240625T160232Z
UID:1499-1701450000-1701473400@www.gruntclub.org
SUMMARY:87th Annual Grunt Club Dinner
DESCRIPTION:To all Members\, Notice is hereby given that the Annual General Meeting of the Grunt Club Inc. will be held Tuesday April 21st\, 2026 at the Bonaventure Hotel. Notice is hereby given that a Special Meeting of the Grunt Club will be held immediately after the Annual General Meeting. The Board invites its members to […] \n 		\n			\n				To access this content\, you must purchase Grunt Club Membership.
URL:https://www.gruntclub.org/event/87th-annual-grunt-club-dinner/
LOCATION:Montreal Bonaventure Hotel\, 900 Rue De La Gauchetière O\, Montreal\, QC\, H5A 1E4\, Canada
ATTACH;FMTTYPE=image/png:https://www.gruntclub.org/wp-content/uploads/2023/09/annual-dinner-hero.png
ORGANIZER;CN="Yolanda Boehmer":MAILTO:yboehmer@canfornav.com
END:VEVENT
BEGIN:VEVENT
DTSTART;TZID=America/Toronto:20230315T120000
DTEND;TZID=America/Toronto:20230315T150000
DTSTAMP:20260420T152806
CREATED:20230220T184435Z
LAST-MODIFIED:20230220T184435Z
UID:843-1678881600-1678892400@www.gruntclub.org
SUMMARY:2023 St-Patrick's Day Curling Luncheon
DESCRIPTION:To all Members\, Notice is hereby given that the Annual General Meeting of the Grunt Club Inc. will be held Tuesday April 21st\, 2026 at the Bonaventure Hotel. Notice is hereby given that a Special Meeting of the Grunt Club will be held immediately after the Annual General Meeting. The Board invites its members to […] \n 		\n			\n				To access this content\, you must purchase Grunt Club Membership.
URL:https://www.gruntclub.org/event/2023-st-patricks-day-curling-luncheon/
LOCATION:Montreal West Curling Club\, 17 Ainslie\, Montreal West\, QC\, H4X 1K4\, Canada
ATTACH;FMTTYPE=image/png:https://www.gruntclub.org/wp-content/uploads/2023/02/curling-overlay.png
END:VEVENT
BEGIN:VEVENT
DTSTART;VALUE=DATE:20220808
DTEND;VALUE=DATE:20220809
DTSTAMP:20260420T152806
CREATED:20220607T005610Z
LAST-MODIFIED:20220713T204950Z
UID:171-1659916800-1660003199@www.gruntclub.org
SUMMARY:Grunt Club annual golf tournament
DESCRIPTION:To all Members\, Notice is hereby given that the Annual General Meeting of the Grunt Club Inc. will be held Tuesday April 21st\, 2026 at the Bonaventure Hotel. Notice is hereby given that a Special Meeting of the Grunt Club will be held immediately after the Annual General Meeting. The Board invites its members to […] \n 		\n			\n				To access this content\, you must purchase Grunt Club Membership.
URL:https://www.gruntclub.org/event/grunt-club-annual-golf-tournament/
LOCATION:Kanawaki Golf and Country Club\, Kanawaki Golf and Country Club\, Canada
ATTACH;FMTTYPE=image/png:https://www.gruntclub.org/wp-content/uploads/2022/06/grunt-club.png
END:VEVENT
BEGIN:VEVENT
DTSTART;TZID=UTC:20220716T110000
DTEND;TZID=UTC:20220716T110000
DTSTAMP:20260420T152806
CREATED:20220606T234904Z
LAST-MODIFIED:20220707T205910Z
UID:152-1657969200-1657969200@www.gruntclub.org
SUMMARY:Annual family picnic
DESCRIPTION:To all Members\, Notice is hereby given that the Annual General Meeting of the Grunt Club Inc. will be held Tuesday April 21st\, 2026 at the Bonaventure Hotel. Notice is hereby given that a Special Meeting of the Grunt Club will be held immediately after the Annual General Meeting. The Board invites its members to […] \n 		\n			\n				To access this content\, you must purchase Grunt Club Membership.
URL:https://www.gruntclub.org/event/annual-family-picnic/
LOCATION:Empire park in Greenfield Park
ATTACH;FMTTYPE=image/png:https://www.gruntclub.org/wp-content/uploads/2022/06/annual-family-picnic.png
END:VEVENT
END:VCALENDAR