BEGIN:VCALENDAR
VERSION:2.0
PRODID:-//The Grunt Club Inc. - ECPv6.15.20//NONSGML v1.0//EN
CALSCALE:GREGORIAN
METHOD:PUBLISH
X-ORIGINAL-URL:https://www.gruntclub.org
X-WR-CALDESC:Events for The Grunt Club Inc.
REFRESH-INTERVAL;VALUE=DURATION:PT1H
X-Robots-Tag:noindex
X-PUBLISHED-TTL:PT1H
BEGIN:VTIMEZONE
TZID:America/Toronto
BEGIN:DAYLIGHT
TZOFFSETFROM:-0500
TZOFFSETTO:-0400
TZNAME:EDT
DTSTART:20240310T070000
END:DAYLIGHT
BEGIN:STANDARD
TZOFFSETFROM:-0400
TZOFFSETTO:-0500
TZNAME:EST
DTSTART:20241103T060000
END:STANDARD
BEGIN:DAYLIGHT
TZOFFSETFROM:-0500
TZOFFSETTO:-0400
TZNAME:EDT
DTSTART:20250309T070000
END:DAYLIGHT
BEGIN:STANDARD
TZOFFSETFROM:-0400
TZOFFSETTO:-0500
TZNAME:EST
DTSTART:20251102T060000
END:STANDARD
BEGIN:DAYLIGHT
TZOFFSETFROM:-0500
TZOFFSETTO:-0400
TZNAME:EDT
DTSTART:20260308T070000
END:DAYLIGHT
BEGIN:STANDARD
TZOFFSETFROM:-0400
TZOFFSETTO:-0500
TZNAME:EST
DTSTART:20261101T060000
END:STANDARD
BEGIN:DAYLIGHT
TZOFFSETFROM:-0500
TZOFFSETTO:-0400
TZNAME:EDT
DTSTART:20270314T070000
END:DAYLIGHT
BEGIN:STANDARD
TZOFFSETFROM:-0400
TZOFFSETTO:-0500
TZNAME:EST
DTSTART:20271107T060000
END:STANDARD
END:VTIMEZONE
BEGIN:VEVENT
DTSTART;TZID=America/Toronto:20251205T170000
DTEND;TZID=America/Toronto:20251205T230000
DTSTAMP:20260422T181222
CREATED:20250923T174721Z
LAST-MODIFIED:20251106T053629Z
UID:3771-1764954000-1764975600@www.gruntclub.org
SUMMARY:89th Annual Dinner
DESCRIPTION:To all Members\, Notice is hereby given that the Annual General Meeting of the Grunt Club Inc. will be held Tuesday April 21st\, 2026 at the Bonaventure Hotel. Notice is hereby given that a Special Meeting of the Grunt Club will be held immediately after the Annual General Meeting. The Board invites its members to […] \n 		\n			\n				To access this content\, you must purchase Grunt Club Membership.
URL:https://www.gruntclub.org/event/89th-annual-dinner/
LOCATION:Montreal Bonaventure Hotel\, 900 Rue De La Gauchetière O\, Montreal\, QC\, H5A 1E4\, Canada
ATTACH;FMTTYPE=image/jpeg:https://www.gruntclub.org/wp-content/uploads/2025/08/89th-Annual-Dinner-1.jpg
ORGANIZER;CN="Yolanda Boehmer":MAILTO:yboehmer@canfornav.com
END:VEVENT
BEGIN:VEVENT
DTSTART;TZID=America/Toronto:20251214T114500
DTEND;TZID=America/Toronto:20251214T144500
DTSTAMP:20260422T181222
CREATED:20250901T013444Z
LAST-MODIFIED:20251121T170003Z
UID:3734-1765712700-1765723500@www.gruntclub.org
SUMMARY:Family Christmas Party
DESCRIPTION:To all Members\, Notice is hereby given that the Annual General Meeting of the Grunt Club Inc. will be held Tuesday April 21st\, 2026 at the Bonaventure Hotel. Notice is hereby given that a Special Meeting of the Grunt Club will be held immediately after the Annual General Meeting. The Board invites its members to […] \n 		\n			\n				To access this content\, you must purchase Grunt Club Membership.
URL:https://www.gruntclub.org/event/family-christmas-party-2/
LOCATION:Mariners’ House of Montreal\, 200 rue de la Commune Ouest\, Montreal\, QC\, H2Y 4B2\, Canada
ATTACH;FMTTYPE=image/jpeg:https://www.gruntclub.org/wp-content/uploads/2025/08/fb01b87c-f0b6-43fd-adbd-b9111fc88a8f.jpg
ORGANIZER;CN="Jane Chong":MAILTO:JaChong@blg.com
END:VEVENT
BEGIN:VEVENT
DTSTART;TZID=America/Toronto:20260312T120000
DTEND;TZID=America/Toronto:20260312T160000
DTSTAMP:20260422T181222
CREATED:20260112T182324Z
LAST-MODIFIED:20260112T183527Z
UID:4430-1773316800-1773331200@www.gruntclub.org
SUMMARY:Grunt Club St.Patrick's Curling Luncheon
DESCRIPTION:To all Members\, Notice is hereby given that the Annual General Meeting of the Grunt Club Inc. will be held Tuesday April 21st\, 2026 at the Bonaventure Hotel. Notice is hereby given that a Special Meeting of the Grunt Club will be held immediately after the Annual General Meeting. The Board invites its members to […] \n 		\n			\n				To access this content\, you must purchase Grunt Club Membership.
URL:https://www.gruntclub.org/event/grunt-club-st-patricks-curling-luncheon/
LOCATION:St-Lambert Curling Club\, 660 Rue Oak\, St-Lambert\, Québec\, J4P 2R6
ATTACH;FMTTYPE=image/png:https://www.gruntclub.org/wp-content/uploads/2025/02/curlingchampionships_564x370.png
ORGANIZER;CN="Dave Mains":MAILTO:dmains@rodmarc.com
END:VEVENT
BEGIN:VEVENT
DTSTART;TZID=America/Toronto:20260421T170000
DTEND;TZID=America/Toronto:20260421T200000
DTSTAMP:20260422T181222
CREATED:20260315T172539Z
LAST-MODIFIED:20260320T224421Z
UID:4547-1776790800-1776801600@www.gruntclub.org
SUMMARY:Grunt Club Annual General Meeting and Special Meeting
DESCRIPTION:To all Members\, Notice is hereby given that the Annual General Meeting of the Grunt Club Inc. will be held Tuesday April 21st\, 2026 at the Bonaventure Hotel. Notice is hereby given that a Special Meeting of the Grunt Club will be held immediately after the Annual General Meeting. The Board invites its members to […] \n 		\n			\n				To access this content\, you must purchase Grunt Club Membership.
URL:https://www.gruntclub.org/event/grunt-club-annual-general-meeting/
LOCATION:Montreal Bonaventure Hotel\, 900 Rue De La Gauchetière O\, Montreal\, QC\, H5A 1E4\, Canada
ATTACH;FMTTYPE=image/png:https://www.gruntclub.org/wp-content/uploads/2026/03/Blue-and-White-Gradient-Background-Zoom-Virtual-Background.png
END:VEVENT
BEGIN:VEVENT
DTSTART;VALUE=DATE:20260525
DTEND;VALUE=DATE:20260526
DTSTAMP:20260422T181222
CREATED:20260209T192952Z
LAST-MODIFIED:20260422T163225Z
UID:4475-1779667200-1779753599@www.gruntclub.org
SUMMARY:2026 Premium Golf
DESCRIPTION:To all Members\, Notice is hereby given that the Annual General Meeting of the Grunt Club Inc. will be held Tuesday April 21st\, 2026 at the Bonaventure Hotel. Notice is hereby given that a Special Meeting of the Grunt Club will be held immediately after the Annual General Meeting. The Board invites its members to […] \n 		\n			\n				To access this content\, you must purchase Grunt Club Membership.
URL:https://www.gruntclub.org/event/2026-premium-golf/
LOCATION:Kanawaki Golf and Country Club\, Kanawaki Golf and Country Club\, Canada
ATTACH;FMTTYPE=image/jpeg:https://www.gruntclub.org/wp-content/uploads/2026/02/54764021580_d5143cd3e5_c.jpg
ORGANIZER;CN="Anthony Loggia":MAILTO:aloggia@spragueenergy.com
END:VEVENT
BEGIN:VEVENT
DTSTART;TZID=America/Toronto:20261126T173000
DTEND;TZID=America/Toronto:20261126T200000
DTSTAMP:20260422T181222
CREATED:20260209T202929Z
LAST-MODIFIED:20260209T202929Z
UID:4481-1795714200-1795723200@www.gruntclub.org
SUMMARY:Table Draw 2026
DESCRIPTION:To all Members\, Notice is hereby given that the Annual General Meeting of the Grunt Club Inc. will be held Tuesday April 21st\, 2026 at the Bonaventure Hotel. Notice is hereby given that a Special Meeting of the Grunt Club will be held immediately after the Annual General Meeting. The Board invites its members to […] \n 		\n			\n				To access this content\, you must purchase Grunt Club Membership.
URL:https://www.gruntclub.org/event/table-draw-2026/
LOCATION:QC
ATTACH;FMTTYPE=image/png:https://www.gruntclub.org/wp-content/uploads/2026/02/Blue-and-Gold-Minimalist-Business-Meeting-Zoom-Virtual-Background.png
END:VEVENT
BEGIN:VEVENT
DTSTART;TZID=America/Toronto:20261204T170000
DTEND;TZID=America/Toronto:20261204T230000
DTSTAMP:20260422T181222
CREATED:20260209T195257Z
LAST-MODIFIED:20260213T210826Z
UID:4477-1796403600-1796425200@www.gruntclub.org
SUMMARY:90th Annual Dinner
DESCRIPTION:To all Members\, Notice is hereby given that the Annual General Meeting of the Grunt Club Inc. will be held Tuesday April 21st\, 2026 at the Bonaventure Hotel. Notice is hereby given that a Special Meeting of the Grunt Club will be held immediately after the Annual General Meeting. The Board invites its members to […] \n 		\n			\n				To access this content\, you must purchase Grunt Club Membership.
URL:https://www.gruntclub.org/event/90th-annual-dinner/
LOCATION:Montreal Bonaventure Hotel\, 900 Rue De La Gauchetière O\, Montreal\, QC\, H5A 1E4\, Canada
ATTACH;FMTTYPE=image/png:https://www.gruntclub.org/wp-content/uploads/2026/02/Black-and-Gold-Elegant-New-Years-Linktree-Background.png
END:VEVENT
BEGIN:VEVENT
DTSTART;TZID=America/Toronto:20261213T113000
DTEND;TZID=America/Toronto:20261213T143000
DTSTAMP:20260422T181222
CREATED:20260228T015411Z
LAST-MODIFIED:20260228T015411Z
UID:4529-1797161400-1797172200@www.gruntclub.org
SUMMARY:Family Christmas Party
DESCRIPTION:To all Members\, Notice is hereby given that the Annual General Meeting of the Grunt Club Inc. will be held Tuesday April 21st\, 2026 at the Bonaventure Hotel. Notice is hereby given that a Special Meeting of the Grunt Club will be held immediately after the Annual General Meeting. The Board invites its members to […] \n 		\n			\n				To access this content\, you must purchase Grunt Club Membership.
URL:https://www.gruntclub.org/event/family-christmas-party-3/
LOCATION:Mariners’ House of Montreal\, 200 rue de la Commune Ouest\, Montreal\, QC\, H2Y 4B2\, Canada
ATTACH;FMTTYPE=image/png:https://www.gruntclub.org/wp-content/uploads/2026/02/pig-christmas-hat.png
END:VEVENT
END:VCALENDAR