BEGIN:VCALENDAR
VERSION:2.0
PRODID:-//The Grunt Club Inc. - ECPv6.15.20//NONSGML v1.0//EN
CALSCALE:GREGORIAN
METHOD:PUBLISH
X-WR-CALNAME:The Grunt Club Inc.
X-ORIGINAL-URL:https://www.gruntclub.org/fr/
X-WR-CALDESC:Évènements pour The Grunt Club Inc.
REFRESH-INTERVAL;VALUE=DURATION:PT1H
X-Robots-Tag:noindex
X-PUBLISHED-TTL:PT1H
BEGIN:VTIMEZONE
TZID:America/Toronto
BEGIN:DAYLIGHT
TZOFFSETFROM:-0500
TZOFFSETTO:-0400
TZNAME:EDT
DTSTART:20230312T070000
END:DAYLIGHT
BEGIN:STANDARD
TZOFFSETFROM:-0400
TZOFFSETTO:-0500
TZNAME:EST
DTSTART:20231105T060000
END:STANDARD
BEGIN:DAYLIGHT
TZOFFSETFROM:-0500
TZOFFSETTO:-0400
TZNAME:EDT
DTSTART:20240310T070000
END:DAYLIGHT
BEGIN:STANDARD
TZOFFSETFROM:-0400
TZOFFSETTO:-0500
TZNAME:EST
DTSTART:20241103T060000
END:STANDARD
BEGIN:DAYLIGHT
TZOFFSETFROM:-0500
TZOFFSETTO:-0400
TZNAME:EDT
DTSTART:20250309T070000
END:DAYLIGHT
BEGIN:STANDARD
TZOFFSETFROM:-0400
TZOFFSETTO:-0500
TZNAME:EST
DTSTART:20251102T060000
END:STANDARD
END:VTIMEZONE
BEGIN:VEVENT
DTSTART;TZID=America/Toronto:20241206T170000
DTEND;TZID=America/Toronto:20241206T220000
DTSTAMP:20260421T085039
CREATED:20240625T155328Z
LAST-MODIFIED:20240625T155328Z
UID:2453-1733504400-1733522400@www.gruntclub.org
SUMMARY:88e Gala Annuel
DESCRIPTION:Ne manquez pas la 88e édition de notre gala annuel. \nPlus de détails suivront.
URL:https://www.gruntclub.org/fr/event/88e-gala-annuel/
LOCATION:Montreal Bonaventure Hotel\, 900 Rue De La Gauchetière O\, Montreal\, QC\, H5A 1E4\, Canada
ATTACH;FMTTYPE=image/png:https://www.gruntclub.org/wp-content/uploads/2022/06/grunt-club-annual.png
ORGANIZER;CN="Yolanda Boehmer":MAILTO:yboehmer@canfornav.com
END:VEVENT
END:VCALENDAR