BEGIN:VCALENDAR
VERSION:2.0
PRODID:-//The Grunt Club Inc. - ECPv6.15.20//NONSGML v1.0//EN
CALSCALE:GREGORIAN
METHOD:PUBLISH
X-WR-CALNAME:The Grunt Club Inc.
X-ORIGINAL-URL:https://www.gruntclub.org/fr/
X-WR-CALDESC:Évènements pour The Grunt Club Inc.
REFRESH-INTERVAL;VALUE=DURATION:PT1H
X-Robots-Tag:noindex
X-PUBLISHED-TTL:PT1H
BEGIN:VTIMEZONE
TZID:America/Toronto
BEGIN:DAYLIGHT
TZOFFSETFROM:-0500
TZOFFSETTO:-0400
TZNAME:EDT
DTSTART:20240310T070000
END:DAYLIGHT
BEGIN:STANDARD
TZOFFSETFROM:-0400
TZOFFSETTO:-0500
TZNAME:EST
DTSTART:20241103T060000
END:STANDARD
BEGIN:DAYLIGHT
TZOFFSETFROM:-0500
TZOFFSETTO:-0400
TZNAME:EDT
DTSTART:20250309T070000
END:DAYLIGHT
BEGIN:STANDARD
TZOFFSETFROM:-0400
TZOFFSETTO:-0500
TZNAME:EST
DTSTART:20251102T060000
END:STANDARD
BEGIN:DAYLIGHT
TZOFFSETFROM:-0500
TZOFFSETTO:-0400
TZNAME:EDT
DTSTART:20260308T070000
END:DAYLIGHT
BEGIN:STANDARD
TZOFFSETFROM:-0400
TZOFFSETTO:-0500
TZNAME:EST
DTSTART:20261101T060000
END:STANDARD
END:VTIMEZONE
BEGIN:VEVENT
DTSTART;VALUE=DATE:20250526
DTEND;VALUE=DATE:20250527
DTSTAMP:20260420T223858
CREATED:20250306T162345Z
LAST-MODIFIED:20250318T154353Z
UID:3238-1748217600-1748303999@www.gruntclub.org
SUMMARY:Golf Premium 2025
DESCRIPTION:À tous les membres\, Veuillez prendre note que la réunion générale annuelle aura lieu le mardi 21 avril 2026 à l’Hotel Bonaventure Veuillez prendre note qu’une Assemblée Spéciale aura lieu immédiatement après l’Assemblée Générale Annuelle. Le Conseil d’Aministration vous invite à cette Assemblée Extraordinaire pour discuter de changements aux règlements administratifs qui régissent le Club\, […] \n 		\n			\n				To access this content\, you must purchase Grunt Club Membership.
URL:https://www.gruntclub.org/fr/event/golf-premium-2025/
LOCATION:Kanawaki Golf and Country Club\, Kanawaki Golf and Country Club\, Canada
ATTACH;FMTTYPE=image/jpeg:https://www.gruntclub.org/wp-content/uploads/2025/03/c52d304d-8fa1-2ef0-7f65-d5f8f2796c2a.jpg
ORGANIZER;CN="Elza Adamyan":MAILTO:Elad@gibunkering.com
END:VEVENT
END:VCALENDAR