BEGIN:VCALENDAR
VERSION:2.0
PRODID:-//The Grunt Club Inc. - ECPv6.15.20//NONSGML v1.0//EN
CALSCALE:GREGORIAN
METHOD:PUBLISH
X-WR-CALNAME:The Grunt Club Inc.
X-ORIGINAL-URL:https://www.gruntclub.org/fr/
X-WR-CALDESC:Évènements pour The Grunt Club Inc.
REFRESH-INTERVAL;VALUE=DURATION:PT1H
X-Robots-Tag:noindex
X-PUBLISHED-TTL:PT1H
BEGIN:VTIMEZONE
TZID:America/Toronto
BEGIN:DAYLIGHT
TZOFFSETFROM:-0500
TZOFFSETTO:-0400
TZNAME:EDT
DTSTART:20250309T070000
END:DAYLIGHT
BEGIN:STANDARD
TZOFFSETFROM:-0400
TZOFFSETTO:-0500
TZNAME:EST
DTSTART:20251102T060000
END:STANDARD
BEGIN:DAYLIGHT
TZOFFSETFROM:-0500
TZOFFSETTO:-0400
TZNAME:EDT
DTSTART:20260308T070000
END:DAYLIGHT
BEGIN:STANDARD
TZOFFSETFROM:-0400
TZOFFSETTO:-0500
TZNAME:EST
DTSTART:20261101T060000
END:STANDARD
BEGIN:DAYLIGHT
TZOFFSETFROM:-0500
TZOFFSETTO:-0400
TZNAME:EDT
DTSTART:20270314T070000
END:DAYLIGHT
BEGIN:STANDARD
TZOFFSETFROM:-0400
TZOFFSETTO:-0500
TZNAME:EST
DTSTART:20271107T060000
END:STANDARD
END:VTIMEZONE
BEGIN:VEVENT
DTSTART;VALUE=DATE:20260525
DTEND;VALUE=DATE:20260526
DTSTAMP:20260420T073545
CREATED:20260209T192952Z
LAST-MODIFIED:20260327T154315Z
UID:4485-1779667200-1779753599@www.gruntclub.org
SUMMARY:Golf Premium 2026
DESCRIPTION:La vente des billets est ouverte! Achetez vos billets maintenant pour une super journée de golf\, en plus de soutenir des causes qui nous tiennent à coeur.  \nCliquez ici pour en savoir plus sur les opportunités de commandites pour cet évènement!  \n  \nVeuillez noter que vous devez être une membre actif et connectés à votre compte pour accéder au prix membre. Pour toute difficulté\, veuillez entrer en contact avec info@gruntclub.org  \n 
URL:https://www.gruntclub.org/fr/event/golf-premium-2026/
LOCATION:Kanawaki Golf and Country Club\, Kanawaki Golf and Country Club\, Canada
ATTACH;FMTTYPE=image/jpeg:https://www.gruntclub.org/wp-content/uploads/2026/02/54764021580_d5143cd3e5_c.jpg
ORGANIZER;CN="Anthony Loggia":MAILTO:aloggia@spragueenergy.com
END:VEVENT
END:VCALENDAR