BEGIN:VCALENDAR
VERSION:2.0
PRODID:-//The Grunt Club Inc. - ECPv6.15.20//NONSGML v1.0//EN
CALSCALE:GREGORIAN
METHOD:PUBLISH
X-WR-CALNAME:The Grunt Club Inc.
X-ORIGINAL-URL:https://www.gruntclub.org/fr/
X-WR-CALDESC:Évènements pour The Grunt Club Inc.
REFRESH-INTERVAL;VALUE=DURATION:PT1H
X-Robots-Tag:noindex
X-PUBLISHED-TTL:PT1H
BEGIN:VTIMEZONE
TZID:America/Toronto
BEGIN:DAYLIGHT
TZOFFSETFROM:-0500
TZOFFSETTO:-0400
TZNAME:EDT
DTSTART:20220313T070000
END:DAYLIGHT
BEGIN:STANDARD
TZOFFSETFROM:-0400
TZOFFSETTO:-0500
TZNAME:EST
DTSTART:20221106T060000
END:STANDARD
BEGIN:DAYLIGHT
TZOFFSETFROM:-0500
TZOFFSETTO:-0400
TZNAME:EDT
DTSTART:20230312T070000
END:DAYLIGHT
BEGIN:STANDARD
TZOFFSETFROM:-0400
TZOFFSETTO:-0500
TZNAME:EST
DTSTART:20231105T060000
END:STANDARD
BEGIN:DAYLIGHT
TZOFFSETFROM:-0500
TZOFFSETTO:-0400
TZNAME:EDT
DTSTART:20240310T070000
END:DAYLIGHT
BEGIN:STANDARD
TZOFFSETFROM:-0400
TZOFFSETTO:-0500
TZNAME:EST
DTSTART:20241103T060000
END:STANDARD
END:VTIMEZONE
BEGIN:VEVENT
DTSTART;TZID=America/Toronto:20231201T170000
DTEND;TZID=America/Toronto:20231201T233000
DTSTAMP:20260422T013118
CREATED:20230927T193436Z
LAST-MODIFIED:20240625T160233Z
UID:1521-1701450000-1701473400@www.gruntclub.org
SUMMARY:87e dîner annuel du Grunt Club
DESCRIPTION:À tous les membres\, Veuillez prendre note que la réunion générale annuelle aura lieu le mardi 21 avril 2026 à l’Hotel Bonaventure Veuillez prendre note qu’une Assemblée Spéciale aura lieu immédiatement après l’Assemblée Générale Annuelle. Le Conseil d’Aministration vous invite à cette Assemblée Extraordinaire pour discuter de changements aux règlements administratifs qui régissent le Club\, […] \n 		\n			\n				To access this content\, you must purchase Grunt Club Membership.
URL:https://www.gruntclub.org/fr/event/87e-diner-annuel-du-grunt-club/
LOCATION:Montreal Bonaventure Hotel\, 900 Rue De La Gauchetière O\, Montreal\, QC\, H5A 1E4\, Canada
ATTACH;FMTTYPE=image/png:https://www.gruntclub.org/wp-content/uploads/2023/09/annual-dinner-hero.png
ORGANIZER;CN="Yolanda Boehmer":MAILTO:yboehmer@canfornav.com
END:VEVENT
END:VCALENDAR