BEGIN:VCALENDAR
VERSION:2.0
PRODID:-//The Grunt Club Inc. - ECPv6.15.20//NONSGML v1.0//EN
CALSCALE:GREGORIAN
METHOD:PUBLISH
X-WR-CALNAME:The Grunt Club Inc.
X-ORIGINAL-URL:https://www.gruntclub.org/fr/
X-WR-CALDESC:Évènements pour The Grunt Club Inc.
REFRESH-INTERVAL;VALUE=DURATION:PT1H
X-Robots-Tag:noindex
X-PUBLISHED-TTL:PT1H
BEGIN:VTIMEZONE
TZID:America/Toronto
BEGIN:DAYLIGHT
TZOFFSETFROM:-0500
TZOFFSETTO:-0400
TZNAME:EDT
DTSTART:20240310T070000
END:DAYLIGHT
BEGIN:STANDARD
TZOFFSETFROM:-0400
TZOFFSETTO:-0500
TZNAME:EST
DTSTART:20241103T060000
END:STANDARD
BEGIN:DAYLIGHT
TZOFFSETFROM:-0500
TZOFFSETTO:-0400
TZNAME:EDT
DTSTART:20250309T070000
END:DAYLIGHT
BEGIN:STANDARD
TZOFFSETFROM:-0400
TZOFFSETTO:-0500
TZNAME:EST
DTSTART:20251102T060000
END:STANDARD
BEGIN:DAYLIGHT
TZOFFSETFROM:-0500
TZOFFSETTO:-0400
TZNAME:EDT
DTSTART:20260308T070000
END:DAYLIGHT
BEGIN:STANDARD
TZOFFSETFROM:-0400
TZOFFSETTO:-0500
TZNAME:EST
DTSTART:20261101T060000
END:STANDARD
END:VTIMEZONE
BEGIN:VEVENT
DTSTART;TZID=America/Toronto:20250227T173000
DTEND;TZID=America/Toronto:20250227T200000
DTSTAMP:20260421T035213
CREATED:20250221T213757Z
LAST-MODIFIED:20250222T000745Z
UID:3213-1740677400-1740686400@www.gruntclub.org
SUMMARY:Pub Night - Complet!
DESCRIPTION:Soirée ‘Pub Night’ de l’industrie martime de Montréal!  \nCet événement est tenu en partenariat avec le Grunt Club\, WISTA\, l’Institute of Chartered Shipbrokers et le Youth of Shipping\, au Pub Irlandasi Hurley’s au Centre-Ville de Montréal. \nLes billets pour cet événements sont épuisés
URL:https://www.gruntclub.org/fr/event/soiree-pub-night/
LOCATION:Hurley’s Irish Pub\, 1225 Rue Crescent\, Montréal\, Québec\, H3G2B1\, Canada
ATTACH;FMTTYPE=image/png:https://www.gruntclub.org/wp-content/uploads/2025/02/Cropped-invite.png
ORGANIZER;CN="Jordi Montblanch":MAILTO:jordi.montblanch@marsh.com
END:VEVENT
END:VCALENDAR