BEGIN:VCALENDAR
VERSION:2.0
PRODID:-//The Grunt Club Inc. - ECPv6.15.20//NONSGML v1.0//EN
CALSCALE:GREGORIAN
METHOD:PUBLISH
X-ORIGINAL-URL:https://www.gruntclub.org/fr/
X-WR-CALDESC:Évènements pour The Grunt Club Inc.
REFRESH-INTERVAL;VALUE=DURATION:PT1H
X-Robots-Tag:noindex
X-PUBLISHED-TTL:PT1H
BEGIN:VTIMEZONE
TZID:America/Toronto
BEGIN:DAYLIGHT
TZOFFSETFROM:-0500
TZOFFSETTO:-0400
TZNAME:EDT
DTSTART:20240310T070000
END:DAYLIGHT
BEGIN:STANDARD
TZOFFSETFROM:-0400
TZOFFSETTO:-0500
TZNAME:EST
DTSTART:20241103T060000
END:STANDARD
BEGIN:DAYLIGHT
TZOFFSETFROM:-0500
TZOFFSETTO:-0400
TZNAME:EDT
DTSTART:20250309T070000
END:DAYLIGHT
BEGIN:STANDARD
TZOFFSETFROM:-0400
TZOFFSETTO:-0500
TZNAME:EST
DTSTART:20251102T060000
END:STANDARD
BEGIN:DAYLIGHT
TZOFFSETFROM:-0500
TZOFFSETTO:-0400
TZNAME:EDT
DTSTART:20260308T070000
END:DAYLIGHT
BEGIN:STANDARD
TZOFFSETFROM:-0400
TZOFFSETTO:-0500
TZNAME:EST
DTSTART:20261101T060000
END:STANDARD
END:VTIMEZONE
BEGIN:VEVENT
DTSTART;TZID=America/Toronto:20251106T170000
DTEND;TZID=America/Toronto:20251106T190000
DTSTAMP:20260420T123728
CREATED:20250901T011049Z
LAST-MODIFIED:20250901T011049Z
UID:3742-1762448400-1762455600@www.gruntclub.org
SUMMARY:5 @ 7
DESCRIPTION:Joignez-vous à nous pour un 5 à 7 du Grunt Club\, en collaboration avec CIFFA \n  \nPlus de détails suivront
URL:https://www.gruntclub.org/fr/event/5-7/
LOCATION:QC
ATTACH;FMTTYPE=image/jpeg:https://www.gruntclub.org/wp-content/uploads/2025/08/5-@-7-GRUNT-CLUB-x-ciffa.jpg
ORGANIZER;CN="Anthony Loggia":MAILTO:aloggia@spragueenergy.com
END:VEVENT
END:VCALENDAR