BEGIN:VCALENDAR
VERSION:2.0
PRODID:-//The Grunt Club Inc. - ECPv6.15.20//NONSGML v1.0//EN
CALSCALE:GREGORIAN
METHOD:PUBLISH
X-WR-CALNAME:The Grunt Club Inc.
X-ORIGINAL-URL:https://www.gruntclub.org/fr/
X-WR-CALDESC:Évènements pour The Grunt Club Inc.
REFRESH-INTERVAL;VALUE=DURATION:PT1H
X-Robots-Tag:noindex
X-PUBLISHED-TTL:PT1H
BEGIN:VTIMEZONE
TZID:America/Toronto
BEGIN:DAYLIGHT
TZOFFSETFROM:-0500
TZOFFSETTO:-0400
TZNAME:EDT
DTSTART:20250309T070000
END:DAYLIGHT
BEGIN:STANDARD
TZOFFSETFROM:-0400
TZOFFSETTO:-0500
TZNAME:EST
DTSTART:20251102T060000
END:STANDARD
BEGIN:DAYLIGHT
TZOFFSETFROM:-0500
TZOFFSETTO:-0400
TZNAME:EDT
DTSTART:20260308T070000
END:DAYLIGHT
BEGIN:STANDARD
TZOFFSETFROM:-0400
TZOFFSETTO:-0500
TZNAME:EST
DTSTART:20261101T060000
END:STANDARD
BEGIN:DAYLIGHT
TZOFFSETFROM:-0500
TZOFFSETTO:-0400
TZNAME:EDT
DTSTART:20270314T070000
END:DAYLIGHT
BEGIN:STANDARD
TZOFFSETFROM:-0400
TZOFFSETTO:-0500
TZNAME:EST
DTSTART:20271107T060000
END:STANDARD
END:VTIMEZONE
BEGIN:VEVENT
DTSTART;TZID=America/Toronto:20260312T120000
DTEND;TZID=America/Toronto:20260312T160000
DTSTAMP:20260420T055710
CREATED:20260112T182324Z
LAST-MODIFIED:20260112T182324Z
UID:4488-1773316800-1773331200@www.gruntclub.org
SUMMARY:Lunch et Curling de la St-Patrick
DESCRIPTION:
URL:https://www.gruntclub.org/fr/event/lunch-et-curling-de-la-st-patrick/
LOCATION:St-Lambert Curling Club\, 660 Rue Oak\, St-Lambert\, Québec\, J4P 2R6
ATTACH;FMTTYPE=image/png:https://www.gruntclub.org/wp-content/uploads/2025/02/curlingchampionships_564x370.png
ORGANIZER;CN="Dave Mains":MAILTO:dmains@rodmarc.com
END:VEVENT
END:VCALENDAR